Workbook

Sheet list
A1: username | B1: password | C1: firstname | D1: lastname | E1: email
A2: =IF(E2<>"", E2,"") | B2: {=IF(A2<>"", _xlfn.CONCAT(MID(_xlfn.CONCAT(元!A2:'元'!H2),_xlfn.SORTBY(_xlfn.SEQUENCE(8),_xlfn.RANDARRAY(8),1),1)),"")}
A3: =IF(E3<>"", E3,"") | B3: {=IF(A3<>"", _xlfn.CONCAT(MID(_xlfn.CONCAT(元!A3:'元'!H3),_xlfn.SORTBY(_xlfn.SEQUENCE(8),_xlfn.RANDARRAY(8),1),1)),"")}
A4: =IF(E4<>"", E4,"") | B4: {=IF(A4<>"", _xlfn.CONCAT(MID(_xlfn.CONCAT(元!A4:'元'!H4),_xlfn.SORTBY(_xlfn.SEQUENCE(8),_xlfn.RANDARRAY(8),1),1)),"")}
A5: =IF(E5<>"", E5,"") | B5: {=IF(A5<>"", _xlfn.CONCAT(MID(_xlfn.CONCAT(元!A5:'元'!H5),_xlfn.SORTBY(_xlfn.SEQUENCE(8),_xlfn.RANDARRAY(8),1),1)),"")}
A6: =IF(E6<>"", E6,"") | B6: {=IF(A6<>"", _xlfn.CONCAT(MID(_xlfn.CONCAT(元!A6:'元'!H6),_xlfn.SORTBY(_xlfn.SEQUENCE(8),_xlfn.RANDARRAY(8),1),1)),"")}
A7: =IF(E7<>"", E7,"") | B7: {=IF(A7<>"", _xlfn.CONCAT(MID(_xlfn.CONCAT(元!A7:'元'!H7),_xlfn.SORTBY(_xlfn.SEQUENCE(8),_xlfn.RANDARRAY(8),1),1)),"")}
A8: =IF(E8<>"", E8,"") | B8: {=IF(A8<>"", _xlfn.CONCAT(MID(_xlfn.CONCAT(元!A8:'元'!H8),_xlfn.SORTBY(_xlfn.SEQUENCE(8),_xlfn.RANDARRAY(8),1),1)),"")}
A9: =IF(E9<>"", E9,"") | B9: {=IF(A9<>"", _xlfn.CONCAT(MID(_xlfn.CONCAT(元!A9:'元'!H9),_xlfn.SORTBY(_xlfn.SEQUENCE(8),_xlfn.RANDARRAY(8),1),1)),"")}
A10: =IF(E10<>"", E10,"") | B10: {=IF(A10<>"", _xlfn.CONCAT(MID(_xlfn.CONCAT(元!A10:'元'!H10),_xlfn.SORTBY(_xlfn.SEQUENCE(8),_xlfn.RANDARRAY(8),1),1)),"")}
A11: =IF(E11<>"", E11,"") | B11: {=IF(A11<>"", _xlfn.CONCAT(MID(_xlfn.CONCAT(元!A11:'元'!H11),_xlfn.SORTBY(_xlfn.SEQUENCE(8),_xlfn.RANDARRAY(8),1),1)),"")}
A12: =IF(E12<>"", E12,"") | B12: {=IF(A12<>"", _xlfn.CONCAT(MID(_xlfn.CONCAT(元!A12:'元'!H12),_xlfn.SORTBY(_xlfn.SEQUENCE(8),_xlfn.RANDARRAY(8),1),1)),"")}
A13: =IF(E13<>"", E13,"") | B13: {=IF(A13<>"", _xlfn.CONCAT(MID(_xlfn.CONCAT(元!A13:'元'!H13),_xlfn.SORTBY(_xlfn.SEQUENCE(8),_xlfn.RANDARRAY(8),1),1)),"")}
... A50: =IF(E50<>"", E50,"") | B50: {=IF(A50<>"", _xlfn.CONCAT(MID(_xlfn.CONCAT(元!A50:'元'!H50),_xlfn.SORTBY(_xlfn.SEQUENCE(8),_xlfn.RANDARRAY(8),1),1)),"")}

Sheet 元
A1: 1234567890 | B1: abcdefghijklmnopqrstuvwxyz | C1: ABCDEFGHIJKLMNOPQRSTUVWXYZ | D1: +-<>_()#$%&@ | G1: このシートは消さないで！！
A2: =MID($A$1,RANDBETWEEN(1,LEN($A$1)),1) -> 5 | B2: =MID($B$1,RANDBETWEEN(1,LEN($B$1)),1) -> g | C2: =MID($C$1,RANDBETWEEN(1,LEN($C$1)),1) -> M | D2: =MID($D$1,RANDBETWEEN(1,LEN($D$1)),1) -> + | E2: =MID($A$1,RANDBETWEEN(1,LEN($A$1)),1) -> 3 | F2: =MID($B$1,RANDBETWEEN(1,LEN($B$1)),1) -> t | G2: =MID($C$1,RANDBETWEEN(1,LEN($C$1)),1) -> O | H2: =MID($D$1,RANDBETWEEN(1,LEN($D$1)),1) -> @
A3: =MID($A$1,RANDBETWEEN(1,LEN($A$1)),1) -> 7 | B3: =MID($B$1,RANDBETWEEN(1,LEN($B$1)),1) -> l | C3: =MID($C$1,RANDBETWEEN(1,LEN($C$1)),1) -> H | D3: =MID($D$1,RANDBETWEEN(1,LEN($D$1)),1) -> _ | E3: =MID($A$1,RANDBETWEEN(1,LEN($A$1)),1) -> 6 | F3: =MID($B$1,RANDBETWEEN(1,LEN($B$1)),1) -> l | G3: =MID($C$1,RANDBETWEEN(1,LEN($C$1)),1) -> H | H3: =MID($D$1,RANDBETWEEN(1,LEN($D$1)),1) -> )
A4: =MID($A$1,RANDBETWEEN(1,LEN($A$1)),1) -> 2 | B4: =MID($B$1,RANDBETWEEN(1,LEN($B$1)),1) -> n | C4: =MID($C$1,RANDBETWEEN(1,LEN($C$1)),1) -> B | D4: =MID($D$1,RANDBETWEEN(1,LEN($D$1)),1) -> & | E4: =MID($A$1,RANDBETWEEN(1,LEN($A$1)),1) -> 6 | F4: =MID($B$1,RANDBETWEEN(1,LEN($B$1)),1) -> v | G4: =MID($C$1,RANDBETWEEN(1,LEN($C$1)),1) -> T | H4: =MID($D$1,RANDBETWEEN(1,LEN($D$1)),1) -> -
A5: =MID($A$1,RANDBETWEEN(1,LEN($A$1)),1) -> 4 | B5: =MID($B$1,RANDBETWEEN(1,LEN($B$1)),1) -> r | C5: =MID($C$1,RANDBETWEEN(1,LEN($C$1)),1) -> Q | D5: =MID($D$1,RANDBETWEEN(1,LEN($D$1)),1) -> < | E5: =MID($A$1,RANDBETWEEN(1,LEN($A$1)),1) -> 0 | F5: =MID($B$1,RANDBETWEEN(1,LEN($B$1)),1) -> c | G5: =MID($C$1,RANDBETWEEN(1,LEN($C$1)),1) -> S | H5: =MID($D$1,RANDBETWEEN(1,LEN($D$1)),1) -> _
A6: =MID($A$1,RANDBETWEEN(1,LEN($A$1)),1) -> 3 | B6: =MID($B$1,RANDBETWEEN(1,LEN($B$1)),1) -> g | C6: =MID($C$1,RANDBETWEEN(1,LEN($C$1)),1) -> T | D6: =MID($D$1,RANDBETWEEN(1,LEN($D$1)),1) -> ) | E6: =MID($A$1,RANDBETWEEN(1,LEN($A$1)),1) -> 6 | F6: =MID($B$1,RANDBETWEEN(1,LEN($B$1)),1) -> e | G6: =MID($C$1,RANDBETWEEN(1,LEN($C$1)),1) -> N | H6: =MID($D$1,RANDBETWEEN(1,LEN($D$1)),1) -> $
A7: =MID($A$1,RANDBETWEEN(1,LEN($A$1)),1) -> 8 | B7: =MID($B$1,RANDBETWEEN(1,LEN($B$1)),1) -> g | C7: =MID($C$1,RANDBETWEEN(1,LEN($C$1)),1) -> H | D7: =MID($D$1,RANDBETWEEN(1,LEN($D$1)),1) -> & | E7: =MID($A$1,RANDBETWEEN(1,LEN($A$1)),1) -> 1 | F7: =MID($B$1,RANDBETWEEN(1,LEN($B$1)),1) -> x | G7: =MID($C$1,RANDBETWEEN(1,LEN($C$1)),1) -> D | H7: =MID($D$1,RANDBETWEEN(1,LEN($D$1)),1) -> &
A8: =MID($A$1,RANDBETWEEN(1,LEN($A$1)),1) -> 0 | B8: =MID($B$1,RANDBETWEEN(1,LEN($B$1)),1) -> o | C8: =MID($C$1,RANDBETWEEN(1,LEN($C$1)),1) -> L | D8: =MID($D$1,RANDBETWEEN(1,LEN($D$1)),1) -> ) | E8: =MID($A$1,RANDBETWEEN(1,LEN($A$1)),1) -> 3 | F8: =MID($B$1,RANDBETWEEN(1,LEN($B$1)),1) -> t | G8: =MID($C$1,RANDBETWEEN(1,LEN($C$1)),1) -> X | H8: =MID($D$1,RANDBETWEEN(1,LEN($D$1)),1) -> (
A9: =MID($A$1,RANDBETWEEN(1,LEN($A$1)),1) -> 5 | B9: =MID($B$1,RANDBETWEEN(1,LEN($B$1)),1) -> e | C9: =MID($C$1,RANDBETWEEN(1,LEN($C$1)),1) -> J | D9: =MID($D$1,RANDBETWEEN(1,LEN($D$1)),1) -> & | E9: =MID($A$1,RANDBETWEEN(1,LEN($A$1)),1) -> 9 | F9: =MID($B$1,RANDBETWEEN(1,LEN($B$1)),1) -> n | G9: =MID($C$1,RANDBETWEEN(1,LEN($C$1)),1) -> B | H9: =MID($D$1,RANDBETWEEN(1,LEN($D$1)),1) -> %
A10: =MID($A$1,RANDBETWEEN(1,LEN($A$1)),1) -> 6 | B10: =MID($B$1,RANDBETWEEN(1,LEN($B$1)),1) -> q | C10: =MID($C$1,RANDBETWEEN(1,LEN($C$1)),1) -> I | D10: =MID($D$1,RANDBETWEEN(1,LEN($D$1)),1) -> % | E10: =MID($A$1,RANDBETWEEN(1,LEN($A$1)),1) -> 3 | F10: =MID($B$1,RANDBETWEEN(1,LEN($B$1)),1) -> e | G10: =MID($C$1,RANDBETWEEN(1,LEN($C$1)),1) -> U | H10: =MID($D$1,RANDBETWEEN(1,LEN($D$1)),1) -> #
A11: =MID($A$1,RANDBETWEEN(1,LEN($A$1)),1) -> 6 | B11: =MID($B$1,RANDBETWEEN(1,LEN($B$1)),1) -> r | C11: =MID($C$1,RANDBETWEEN(1,LEN($C$1)),1) -> C | D11: =MID($D$1,RANDBETWEEN(1,LEN($D$1)),1) -> @ | E11: =MID($A$1,RANDBETWEEN(1,LEN($A$1)),1) -> 6 | F11: =MID($B$1,RANDBETWEEN(1,LEN($B$1)),1) -> i | G11: =MID($C$1,RANDBETWEEN(1,LEN($C$1)),1) -> R | H11: =MID($D$1,RANDBETWEEN(1,LEN($D$1)),1) -> #
A12: =MID($A$1,RANDBETWEEN(1,LEN($A$1)),1) -> 3 | B12: =MID($B$1,RANDBETWEEN(1,LEN($B$1)),1) -> k | C12: =MID($C$1,RANDBETWEEN(1,LEN($C$1)),1) -> D | D12: =MID($D$1,RANDBETWEEN(1,LEN($D$1)),1) -> _ | E12: =MID($A$1,RANDBETWEEN(1,LEN($A$1)),1) -> 2 | F12: =MID($B$1,RANDBETWEEN(1,LEN($B$1)),1) -> g | G12: =MID($C$1,RANDBETWEEN(1,LEN($C$1)),1) -> X | H12: =MID($D$1,RANDBETWEEN(1,LEN($D$1)),1) -> <
A13: =MID($A$1,RANDBETWEEN(1,LEN($A$1)),1) -> 5 | B13: =MID($B$1,RANDBETWEEN(1,LEN($B$1)),1) -> l | C13: =MID($C$1,RANDBETWEEN(1,LEN($C$1)),1) -> Z | D13: =MID($D$1,RANDBETWEEN(1,LEN($D$1)),1) -> ) | E13: =MID($A$1,RANDBETWEEN(1,LEN($A$1)),1) -> 9 | F13: =MID($B$1,RANDBETWEEN(1,LEN($B$1)),1) -> e | G13: =MID($C$1,RANDBETWEEN(1,LEN($C$1)),1) -> B | H13: =MID($D$1,RANDBETWEEN(1,LEN($D$1)),1) -> $
... A50: =MID($A$1,RANDBETWEEN(1,LEN($A$1)),1) -> 7 | B50: =MID($B$1,RANDBETWEEN(1,LEN($B$1)),1) -> h | C50: =MID($C$1,RANDBETWEEN(1,LEN($C$1)),1) -> J | D50: =MID($D$1,RANDBETWEEN(1,LEN($D$1)),1) -> ) | E50: =MID($A$1,RANDBETWEEN(1,LEN($A$1)),1) -> 1 | F50: =MID($B$1,RANDBETWEEN(1,LEN($B$1)),1) -> m | G50: =MID($C$1,RANDBETWEEN(1,LEN($C$1)),1) -> X | H50: =MID($D$1,RANDBETWEEN(1,LEN($D$1)),1) -> &
